BEGIN:VCALENDAR
VERSION:2.0
PRODID:-//Hangel.es - ECPv6.15.20//NONSGML v1.0//EN
CALSCALE:GREGORIAN
METHOD:PUBLISH
X-ORIGINAL-URL:https://www.hangel.es
X-WR-CALDESC:Eventos para Hangel.es
REFRESH-INTERVAL;VALUE=DURATION:PT1H
X-Robots-Tag:noindex
X-PUBLISHED-TTL:PT1H
BEGIN:VTIMEZONE
TZID:Europe/Madrid
BEGIN:DAYLIGHT
TZOFFSETFROM:+0100
TZOFFSETTO:+0200
TZNAME:CEST
DTSTART:20170326T010000
END:DAYLIGHT
BEGIN:STANDARD
TZOFFSETFROM:+0200
TZOFFSETTO:+0100
TZNAME:CET
DTSTART:20171029T010000
END:STANDARD
BEGIN:DAYLIGHT
TZOFFSETFROM:+0100
TZOFFSETTO:+0200
TZNAME:CEST
DTSTART:20180325T010000
END:DAYLIGHT
BEGIN:STANDARD
TZOFFSETFROM:+0200
TZOFFSETTO:+0100
TZNAME:CET
DTSTART:20181028T010000
END:STANDARD
BEGIN:DAYLIGHT
TZOFFSETFROM:+0100
TZOFFSETTO:+0200
TZNAME:CEST
DTSTART:20190331T010000
END:DAYLIGHT
BEGIN:STANDARD
TZOFFSETFROM:+0200
TZOFFSETTO:+0100
TZNAME:CET
DTSTART:20191027T010000
END:STANDARD
END:VTIMEZONE
BEGIN:VEVENT
DTSTART;VALUE=DATE:20181121
DTEND;VALUE=DATE:20181129
DTSTAMP:20260421T083635
CREATED:20181006T153258Z
LAST-MODIFIED:20240910T100943Z
UID:10285-1542762000-1543366799@www.hangel.es
SUMMARY:Encaje del rostro de un retrato
DESCRIPTION:Existen distintas formas de iniciar un retrato. En este caso vamos a ver cómo iniciamos el dibujo del rostro de nuestro modelo utilizando la técnica del Encaje a carboncillo directo sobre el soporte (lienzo) \n			\n			\n				\n				\n				\n				\n			\n				\n				\n			\n				\n				\n				\n				\n				\n				\n				\n				\n				\n				\n				\n				\n				\n			\n				\n				\n				\n				\n				\n				Subscribirse al Canal\n			\n			\n				\n				\n				\n				\n				\n				Acceder al Evento\n			\n			\n				\n				\n				\n				\n				\n			\n				\n				\n				\n				\n			\n				\n				\n			\n				\n				\n				\n				\n				\n				\n				\n				\n				\n				\n				\n				\n				\n			\n				\n				\n				\n				\n				\n				\n				\n				\n				\n				\n					\n					\n						\n						Del 21/Nov al 27/Nov / 2018 \n					\n				\n			\n				\n				\n				\n				\n				  \n			\n				\n				\n				\n				\n				\n					\n					\n						\n						Solo en Canal “En mi Estudio”. En directo \n					\n				\n			\n				\n				\n				\n				\n				\n					}\n					\n						\n						El día 21/Oct. de 18:00 a 19:00 h. se emitirá en directo y será grabado. Hasta el día 27/Nov. se emitirá la grabación durante todo el día para aquellos que no lo pudieron ver en directo.  \n					\n				\n			\n				\n				\n				\n				\n				\n					\n					\n						\n						Acceso solo para subscriptores del Canal. A partir del día 28/Nov. Permanecerá accesible en nuestro ARCHIVO solo para suscriptores del Plan Avanzado \n					\n				\n			\n				\n				\n				\n				\n				\n					\n					\n						\n						Aforo: Sin límite de aforo. \n					\n				\n			\n				\n				\n				\n				\n				\n					\n					\n						\n						Este Evento no se puede adquirir  individualmente.
URL:https://www.hangel.es/event/evento-31-6-11/
LOCATION:Canal “En mi Estudio”
CATEGORIES:Dibujo
ATTACH;FMTTYPE=image/jpeg:https://www.hangel.es/wp-content/uploads/2018/10/painting-911798_1920.jpg
ORGANIZER;CN="Hangel Montero":MAILTO:hangelpintor@gmail.com
END:VEVENT
BEGIN:VEVENT
DTSTART;VALUE=DATE:20181114
DTEND;VALUE=DATE:20181122
DTSTAMP:20260421T083636
CREATED:20181012T150730Z
LAST-MODIFIED:20200729T082114Z
UID:10415-1542157200-1542761999@www.hangel.es
SUMMARY:El movimiento en el mar
DESCRIPTION:En este evento vamos a estudiar y realizar un paisaje ALLA PRIMA con el único objetivo de conseguir el efecto de movimiento en el mar. Además estudiaremos una paleta para representar los colores del mar. \n			\n			\n				\n				\n				\n				\n			\n				\n				\n			\n				\n				\n				\n				\n				\n				\n				\n				\n				\n				\n				\n				\n				\n			\n				\n				\n				\n				\n				\n				Subscribirse al Canal\n			\n			\n				\n				\n				\n				\n				\n				Acceder al Evento\n			\n			\n				\n				\n				\n				\n				\n			\n				\n				\n				\n				\n			\n				\n				\n			\n				\n				\n				\n				\n				\n				\n				\n				\n				\n				\n				\n				\n				\n			\n				\n				\n				\n				\n				\n				\n				\n				\n				\n				\n					\n					\n						\n						Del 14/Nov al 20/Nov / 2018 \n					\n				\n			\n				\n				\n				\n				\n				  \n			\n				\n				\n				\n				\n				\n					\n					\n						\n						Solo en Canal “En mi Estudio”. En directo \n					\n				\n			\n				\n				\n				\n				\n				\n					}\n					\n						\n						El día 14/Nov de 18:00 a 20:00 h. se emitirá en directo y será grabado. Hasta el día 20/Nov. se emitirá la grabación durante todo el día para aquellos que no lo pudieron ver en directo.  \n					\n				\n			\n				\n				\n				\n				\n				\n					\n					\n						\n						Acceso solo para subscriptores del Canal. A partir del día 21/Nov. Permanecerá accesible en nuestro ARCHIVO solo para suscriptores del Plan Avanzado \n					\n				\n			\n				\n				\n				\n				\n				\n					\n					\n						\n						Aforo: Sin límite de aforo. \n					\n				\n			\n				\n				\n				\n				\n				\n					\n					\n						\n						Este Evento no se puede adquirir  individualmente.
URL:https://www.hangel.es/event/evento-14-11-18/
LOCATION:Canal “En mi Estudio”
CATEGORIES:Óleo
ATTACH;FMTTYPE=image/jpeg:https://www.hangel.es/wp-content/uploads/2018/10/marina1.jpg
ORGANIZER;CN="Hangel Montero":MAILTO:hangelpintor@gmail.com
END:VEVENT
BEGIN:VEVENT
DTSTART;VALUE=DATE:20181031
DTEND;VALUE=DATE:20181108
DTSTAMP:20260421T083636
CREATED:20181013T060051Z
LAST-MODIFIED:20200729T082235Z
UID:10434-1540947600-1541552399@www.hangel.es
SUMMARY:Dibujo artístico: El encaje
DESCRIPTION:En este evento vamos a estudiar los conceptos y métodos más usuales para realizar el encaje de un dibujo. \n			\n			\n				\n				\n				\n				\n			\n				\n				\n			\n				\n				\n				\n				\n				\n				\n				\n				\n				\n				\n				\n				\n				\n			\n				\n				\n				\n				\n				\n				Subscribirse al Canal\n			\n			\n				\n				\n				\n				\n				\n				Acceder al Evento\n			\n			\n				\n				\n				\n				\n				\n			\n				\n				\n				\n				\n			\n				\n				\n			\n				\n				\n				\n				\n				\n				\n				\n				\n				\n				\n				\n				\n				\n			\n				\n				\n				\n				\n				\n				\n				\n				\n				\n				\n					\n					\n						\n						Del 31/Oct al 6/Nov / 2018 \n					\n				\n			\n				\n				\n				\n				\n				  \n			\n				\n				\n				\n				\n				\n					\n					\n						\n						Solo en Canal “En mi Estudio”. En directo \n					\n				\n			\n				\n				\n				\n				\n				\n					}\n					\n						\n						El día 31/Oct de 18:00 a 20:00 h. se emitirá en directo y será grabado. Hasta el día 6/Nov. se emitirá la grabación durante todo el día para aquellos que no lo pudieron ver en directo.  \n					\n				\n			\n				\n				\n				\n				\n				\n					\n					\n						\n						Acceso solo para subscriptores del Canal. A partir del día 7/Nov. Permanecerá accesible en nuestro ARCHIVO solo para suscriptores del Plan Avanzado \n					\n				\n			\n				\n				\n				\n				\n				\n					\n					\n						\n						Aforo: Sin límite de aforo. \n					\n				\n			\n				\n				\n				\n				\n				\n					\n					\n						\n						Este Evento no se puede adquirir  individualmente.
URL:https://www.hangel.es/event/evento-7-13-11-2-2/
LOCATION:Canal “En mi Estudio”
CATEGORIES:Dibujo
ATTACH;FMTTYPE=image/jpeg:https://www.hangel.es/wp-content/uploads/2018/10/encaje.jpg
ORGANIZER;CN="Hangel Montero":MAILTO:hangelpintor@gmail.com
END:VEVENT
BEGIN:VEVENT
DTSTART;VALUE=DATE:20181024
DTEND;VALUE=DATE:20181101
DTSTAMP:20260421T083636
CREATED:20181006T140529Z
LAST-MODIFIED:20200729T082436Z
UID:10279-1540346400-1540947599@www.hangel.es
SUMMARY:Paisaje con Aproximación al Color
DESCRIPTION:Existe distintas formas de iniciar un cuadro al óleo. En este caso vamos a ver cómo se inicia este paisaje con la técnica de aproximación al color utilizando el método de la obtención del Color de Hangel Montero. \n			\n			\n				\n				\n				\n				\n			\n				\n				\n			\n				\n				\n				\n				\n				\n				\n				\n				\n				\n				\n				\n				\n				\n			\n				\n				\n				\n				\n				\n				Subscribirse al Canal\n			\n			\n				\n				\n				\n				\n				\n				Acceder al Evento\n			\n			\n				\n				\n				\n				\n				\n			\n				\n				\n				\n				\n			\n				\n				\n			\n				\n				\n				\n				\n				\n				\n				\n				\n				\n				\n				\n				\n				\n			\n				\n				\n				\n				\n				\n				\n				\n				\n				\n				\n					\n					\n						\n						Del 24/Oct al 30/Oct / 2018 \n					\n				\n			\n				\n				\n				\n				\n				  \n			\n				\n				\n				\n				\n				\n					\n					\n						\n						Solo en Canal “En mi Estudio”. En directo \n					\n				\n			\n				\n				\n				\n				\n				\n					}\n					\n						\n						El día 24/Oct de 18:00 a 19:00 h. se emitirá en directo y será grabado. Hasta el día 30/Oct. se emitirá la grabación durante todo el día para aquellos que no lo pudieron ver en directo.  \n					\n				\n			\n				\n				\n				\n				\n				\n					\n					\n						\n						Acceso solo para subscriptores del Canal. A partir del día 31/Oct. Permanecerá accesible en nuestro ARCHIVO solo para suscriptores del Plan Avanzado \n					\n				\n			\n				\n				\n				\n				\n				\n					\n					\n						\n						Aforo: Sin límite de aforo. \n					\n				\n			\n				\n				\n				\n				\n				\n					\n					\n						\n						Este Evento no se puede adquirir  individualmente.
URL:https://www.hangel.es/event/evento-24-30-10/
LOCATION:Canal “En mi Estudio”
CATEGORIES:Óleo
ATTACH;FMTTYPE=image/jpeg:https://www.hangel.es/wp-content/uploads/2018/10/eventooct.jpg
ORGANIZER;CN="Hangel Montero":MAILTO:hangelpintor@gmail.com
END:VEVENT
BEGIN:VEVENT
DTSTART;VALUE=DATE:20181017
DTEND;VALUE=DATE:20181025
DTSTAMP:20260421T083636
CREATED:20181011T065927Z
LAST-MODIFIED:20240910T100810Z
UID:10346-1539741600-1540346399@www.hangel.es
SUMMARY:Paisaje al Óleo con Grisalla
DESCRIPTION:Existe distintas formas de iniciar un cuadro al óleo. En este caso vamos a ver cómo se inicia este paisaje con una grisalla. \n			\n			\n				\n				\n				\n				\n			\n				\n				\n			\n				\n				\n				\n				\n				\n				\n				\n				\n				\n				\n				\n				\n				\n			\n				\n				\n				\n				\n				\n				Subscribirse al Canal\n			\n			\n				\n				\n				\n				\n				\n				Acceder al Evento\n			\n			\n				\n				\n				\n				\n				\n			\n				\n				\n				\n				\n			\n				\n				\n			\n				\n				\n				\n				\n				\n				\n				\n				\n				\n				\n				\n				\n				\n			\n				\n				\n				\n				\n				\n				\n				\n				\n				\n				\n					\n					\n						\n						Del 17/Oct al 23/Oct / 2018 \n					\n				\n			\n				\n				\n				\n				\n				\n			\n				\n				\n				\n				\n				\n					\n					\n						\n						Solo en Canal “En mi Estudio”. En directo \n					\n				\n			\n				\n				\n				\n				\n				\n					}\n					\n						\n						El día 17/Oct de 18:00 a 19:00 h. se emitirá en directo y será grabado. Hasta el día 23/Oct. se emitirá la grabación durante todo el día para aquellos que no lo pudieron ver en directo.\n \n					\n				\n			\n				\n				\n				\n				\n				\n					\n					\n						\n						Acceso solo para subscriptores del Canal. A partir del día 23/Oct. Permanecerá accesible en nuestro ARCHIVO solo para suscriptores del Plan Avanzado \n					\n				\n			\n				\n				\n				\n				\n				\n					\n					\n						\n						Aforo: Sin límite de aforo. \n					\n				\n			\n				\n				\n				\n				\n				\n					\n					\n						\n						Este Evento no se puede adquirir  individualmente.
URL:https://www.hangel.es/event/evento17-23-10/
LOCATION:Canal “En mi Estudio”
CATEGORIES:Óleo
ATTACH;FMTTYPE=image/jpeg:https://www.hangel.es/wp-content/uploads/2018/10/20180503_093611.jpg
ORGANIZER;CN="Hangel Montero":MAILTO:hangelpintor@gmail.com
END:VEVENT
END:VCALENDAR